BEGIN:VCALENDAR
VERSION:2.0
PRODID:-//TYPO3/NONSGML Calendarize//EN
BEGIN:VEVENT
UID:calendarize-platzkonzert-3
DTSTAMP:20260424T191752
DTSTART:20260509T193000
SUMMARY:Platzkonzert 
DESCRIPTION:
X-ALT-DESC;FMTTYPE=text/html:
LOCATION:Pichl bei Wels
END:VEVENT
END:VCALENDAR
