BEGIN:VCALENDAR
VERSION:2.0
PRODID:-//TYPO3/NONSGML Calendarize//EN
BEGIN:VEVENT
UID:calendarize-pfingstkonzert-4
DTSTAMP:20260424T191831
DTSTART:20260524T200000
DTEND:20260524T230000
SUMMARY:Pfingstkonzert
DESCRIPTION:
X-ALT-DESC;FMTTYPE=text/html:
LOCATION:Sporthalle Ulrichsberg
END:VEVENT
END:VCALENDAR
