BEGIN:VCALENDAR
VERSION:2.0
PRODID:-//TYPO3/NONSGML Calendarize//EN
BEGIN:VEVENT
UID:calendarize-pfingst-open-air
DTSTAMP:20260424T191805
DTSTART:20260523T200000
DTEND:20260523T213000
SUMMARY:Pfingst-Open-Air
DESCRIPTION:am Marktplatz
X-ALT-DESC;FMTTYPE=text/html:am Marktplatz
LOCATION:Mettmach
END:VEVENT
END:VCALENDAR
