BEGIN:VCALENDAR
VERSION:2.0
PRODID:-//TYPO3/NONSGML Calendarize//EN
BEGIN:VEVENT
UID:calendarize-open-air-atriumkonzert
DTSTAMP:20260424T204316
DTSTART:20260710T200000
DTEND:20260710T220000
SUMMARY:Open-Air Atriumkonzert
DESCRIPTION:
X-ALT-DESC;FMTTYPE=text/html:
LOCATION:Atrium der LMS Stadl-Paura
END:VEVENT
END:VCALENDAR
