BEGIN:VCALENDAR
VERSION:2.0
PRODID:-//TYPO3/NONSGML Calendarize//EN
BEGIN:VEVENT
UID:calendarize-muttertagskonzert-zwischen-huegeln-und-sternen
DTSTAMP:20260424T192258
DTSTART:20260510T000000
DTEND:20260510T193000
SUMMARY:Frühjahrskonzert: "Zwischen Hügeln und Sternen"
DESCRIPTION:Der Eisenbahnermusikverein Wels lädt unter dem Motto „Zwisc
 hen Hügeln und Sternen“ in die Stadttheater Wels. Unter der Führung de
 r neuen Kapellmeisterin Vera Falzeder spannt das Orchester einen musikalis
 chen Bogen von sanften Klanglandschaften bis zu funkelnden\, energiegelade
 nen Höhepunkten.\n\nVera Falzeder\, derzeit Bezirkskapellmeisterin in Lin
 z-Land\, leitete unter anderem sehr erfolgreich das Auswahlorchester „Wi
 nd Project of Schärding“ und zwölf Jahre lang die Werksmusik Nettingsd
 orf. Nach einem turbulenten Jubiläumsjahr 2025 geht es für den Verein nu
 n mit frischem Wind und neuer musikalischer Leitung hoffnungsvoll in die Z
 ukunft.\n\nDie „Hügel“ stehen dabei konkret für das Mühlviertel\, d
 as in „Green Hills Fantasy“ musikalisch beschrieben wird – eine grü
 ne\, hügelige Landschaft mit bewegter keltischer Geschichte\, geprägt vo
 n Mut und Lebensfreude. Die „Sterne“ finden wir in „Stardust“: der
  Geschichte eines gefallenen Sterns\, der zum Ausgangspunkt eines Abenteue
 rs über Aufbruch\, Mut\, Liebe und die Suche nach dem eigenen Weg wird.\n
 \nDas Konzertprogramm verbindet Tradition und Moderne\, Jugend und Erfahru
 ng\, Leichtigkeit und Konzertantes – ein Spannungsfeld\, das gerade am M
 uttertag zwischen Herkunft und Zukunft\, zwischen Halt und Entwicklung ber
 ührt.\n\nKarten:\nVorverkauf: 10 Euro Abendkasse: 12 Euro Mitglieder / Er
 mäßigte: 8 Euro Kinder bis 12 Jahre frei\n\nVorverkaufsstellen:\n 	eww K
 undenzentrum 	max.center Wels Informationen 	bei allen MusikerInnen 	per E
 -Mail unter office@emv-wels.at 	unter der Telefonnummer: +43 664 349 05 29
  \nDownloads:\n 	Einladung zum Frühjahrskonzert 	Plakat zum Frühjahrskon
 zert 	Plakat im Format 16:9 
X-ALT-DESC;FMTTYPE=text/html:<p><span style="font-size:11pt"><span style="
 line-height:normal"><span style="font-family:Calibri\,sans-serif"><span st
 yle="font-family:&quot\;Arial&quot\;\,sans-serif">Der Eisenbahnermusikvere
 in Wels lädt unter dem Motto „Zwischen Hügeln und Sternen“ in die St
 adttheater Wels. Unter der Führung der neuen Kapellmeisterin Vera Falzede
 r spannt das Orchester einen musikalischen Bogen von sanften Klanglandscha
 ften bis zu funkelnden\, energiegeladenen Höhepunkten.</span></span></spa
 n></span></p>\n<p><span style="font-size:11pt"><span style="line-height:no
 rmal"><span style="font-family:Calibri\,sans-serif"><span style="font-fami
 ly:&quot\;Arial&quot\;\,sans-serif"></span></span></span></span></p>\n<p><
 span style="font-size:11pt"><span style="line-height:normal"><span style="
 font-family:Calibri\,sans-serif"><span style="font-family:&quot\;Arial&quo
 t\;\,sans-serif">Vera Falzeder\, derzeit Bezirkskapellmeisterin in Linz-La
 nd\, leitete unter anderem sehr erfolgreich das Auswahlorchester „Wind P
 roject of Schärding“ und zwölf Jahre lang die Werksmusik Nettingsdorf.
  Nach einem turbulenten Jubiläumsjahr 2025 geht es für den Verein nun mi
 t frischem Wind und neuer musikalischer Leitung hoffnungsvoll in die Zukun
 ft.</span></span></span></span></p>\n<p><span style="font-size:11pt"><span
  style="line-height:normal"><span style="font-family:Calibri\,sans-serif">
 <span style="font-family:&quot\;Arial&quot\;\,sans-serif"></span></span></
 span></span></p>\n<p><span style="font-size:11pt"><span style="line-height
 :normal"><span style="font-family:Calibri\,sans-serif"><span style="font-f
 amily:&quot\;Arial&quot\;\,sans-serif">Die „Hügel“ stehen dabei konkr
 et für das Mühlviertel\, das in „Green Hills Fantasy“ musikalisch be
 schrieben wird – eine grüne\, hügelige Landschaft mit bewegter keltisc
 her Geschichte\, geprägt von Mut und Lebensfreude. Die „Sterne“ finde
 n wir in „Stardust“: der Geschichte eines gefallenen Sterns\, der zum 
 Ausgangspunkt eines Abenteuers über Aufbruch\, Mut\, Liebe und die Suche 
 nach dem eigenen Weg wird.</span></span></span></span></p>\n<p><span style
 ="font-size:11pt"><span style="line-height:normal"><span style="font-famil
 y:Calibri\,sans-serif"><span style="font-family:&quot\;Arial&quot\;\,sans-
 serif"></span></span></span></span></p>\n<p><span style="font-size:11pt"><
 span style="line-height:normal"><span style="font-family:Calibri\,sans-ser
 if"><span style="font-family:&quot\;Arial&quot\;\,sans-serif">Das Konzertp
 rogramm verbindet Tradition und Moderne\, Jugend und Erfahrung\, Leichtigk
 eit und Konzertantes – ein Spannungsfeld\, das gerade am Muttertag zwisc
 hen Herkunft und Zukunft\, zwischen Halt und Entwicklung berührt.</span><
 /span></span></span></p>\n<p><span style="font-size:11pt"><span style="lin
 e-height:normal"><span style="font-family:Calibri\,sans-serif"><span style
 ="font-family:&quot\;Arial&quot\;\,sans-serif"></span></span></span></span
 ></p>\n<h3><span style="font-size:11pt"><span style="line-height:normal"><
 span style="font-family:Calibri\,sans-serif"><b><span style="font-family:&
 quot\;Arial&quot\;\,sans-serif">Karten:</span></b></span></span></span></h
 3>\n<p><span style="font-size:11pt"><span style="line-height:normal"><span
  style="font-family:Calibri\,sans-serif"><span style="font-family:&quot\;A
 rial&quot\;\,sans-serif">Vorverkauf: 10 Euro</span></span></span></span><b
 r /> <span style="font-size:11pt"><span style="line-height:normal"><span s
 tyle="font-family:Calibri\,sans-serif"><span style="font-family:&quot\;Ari
 al&quot\;\,sans-serif">Abendkasse: 12 Euro</span></span></span></span><br 
 /> <span style="font-size:11pt"><span style="line-height:normal"><span sty
 le="font-family:Calibri\,sans-serif"><span style="font-family:&quot\;Arial
 &quot\;\,sans-serif">Mitglieder / Ermäßigte: 8 Euro</span></span></span>
 </span><br /> <span style="font-size:11pt"><span style="line-height:normal
 "><span style="font-family:Calibri\,sans-serif"><span style="font-family:&
 quot\;Arial&quot\;\,sans-serif">Kinder bis 12 Jahre frei</span></span></sp
 an></span></p>\n<p><span style="font-size:11pt"><span style="line-height:n
 ormal"><span style="font-family:Calibri\,sans-serif"><span style="font-fam
 ily:&quot\;Arial&quot\;\,sans-serif"></span></span></span></span></p>\n<h3
 ><span style="font-size:11pt"><span style="line-height:normal"><span style
 ="font-family:Calibri\,sans-serif"><b><span style="font-family:&quot\;Aria
 l&quot\;\,sans-serif">Vorverkaufsstellen:</span></b></span></span></span><
 /h3>\n<ul> 	<li><span style="font-size:11pt"><span style="line-height:norm
 al"><span style="font-family:Calibri\,sans-serif"><span style="font-family
 :&quot\;Arial&quot\;\,sans-serif">eww Kundenzentrum</span></span></span></
 span></li> 	<li><span style="font-size:11pt"><span style="line-height:norm
 al"><span style="font-family:Calibri\,sans-serif"><span style="font-family
 :&quot\;Arial&quot\;\,sans-serif">max.center Wels Informationen</span></sp
 an></span></span></li> 	<li><span style="font-size:11pt"><span style="line
 -height:normal"><span style="font-family:Calibri\,sans-serif"><span style=
 "font-family:&quot\;Arial&quot\;\,sans-serif">bei allen MusikerInnen</span
 ></span></span></span></li> 	<li><span style="font-size:11pt"><span style=
 "line-height:normal"><span style="font-family:Calibri\,sans-serif"><span s
 tyle="font-family:&quot\;Arial&quot\;\,sans-serif">per E-Mail unter </span
 ><a href="mailto:office@emv-wels.at" style="color:#0563c1\; text-decoratio
 n:underline"><span style="font-family:&quot\;Arial&quot\;\,sans-serif">off
 ice@emv-wels.at</span></a><span style="font-family:&quot\;Arial&quot\;\,sa
 ns-serif"></span></span></span></span></li> 	<li><span style="font-size:11
 pt"><span style="line-height:normal"><span style="font-family:Calibri\,san
 s-serif"><span style="font-family:&quot\;Arial&quot\;\,sans-serif">unter d
 er Telefonnummer: +43 664 349 05 29</span></span></span></span></li> </ul>
 \n<h3><strong>Downloads:</strong></h3>\n<ul> 	<li><a href="t3://file?uid=1
 74718" target="_blank">Einladung zum Frühjahrskonzert</a></li> 	<li><a hr
 ef="t3://file?uid=174721" target="_blank">Plakat zum Frühjahrskonzert</a>
 </li> 	<li><a href="t3://file?uid=174720" target="_blank">Plakat im Format
  16:9</a></li> </ul>
LOCATION:Stadttheater Wels
END:VEVENT
END:VCALENDAR
