BEGIN:VCALENDAR
VERSION:2.0
PRODID:-//TYPO3/NONSGML Calendarize//EN
BEGIN:VEVENT
UID:calendarize-muttertagskonzert-mv-ottensheim-20260509
DTSTAMP:20260424T191903
DTSTART:20260509T193000
DTEND:20260509T220000
SUMMARY:Muttertagskonzert - MV Ottensheim
DESCRIPTION:
X-ALT-DESC;FMTTYPE=text/html:
LOCATION:Polyturnhalle Ottensheim 
END:VEVENT
END:VCALENDAR
