BEGIN:VCALENDAR
VERSION:2.0
PRODID:-//TYPO3/NONSGML Calendarize//EN
BEGIN:VEVENT
UID:calendarize-muttertagskonzert-mv-altenfelden
DTSTAMP:20260424T191905
DTSTART:20260509T193000
DTEND:20260509T220000
SUMMARY:Muttertagskonzert MV Altenfelden
DESCRIPTION:
X-ALT-DESC;FMTTYPE=text/html:
LOCATION:ADH Lembach
END:VEVENT
END:VCALENDAR
