BEGIN:VCALENDAR
VERSION:2.0
PRODID:-//TYPO3/NONSGML Calendarize//EN
BEGIN:VEVENT
UID:calendarize-musikalische-winternacht-mv-neustift-3
DTSTAMP:20260425T004804
DTSTART:20261219T180000
DTEND:20261219T200000
SUMMARY:Musikalische Winternacht MV Neustift
DESCRIPTION:
X-ALT-DESC;FMTTYPE=text/html:
LOCATION:Pfarrkirche Neustift
END:VEVENT
END:VCALENDAR
