BEGIN:VCALENDAR
VERSION:2.0
PRODID:-//TYPO3/NONSGML Calendarize//EN
BEGIN:VEVENT
UID:calendarize-marschwertung-koenigswiesen-1
DTSTAMP:20260424T192319
DTSTART:20260613T000000
DTEND:20260613T230000
SUMMARY:Marschwertung Königswiesen
DESCRIPTION:
X-ALT-DESC;FMTTYPE=text/html:
LOCATION:Sportplatz Königswiesen
END:VEVENT
END:VCALENDAR
