BEGIN:VCALENDAR
VERSION:2.0
PRODID:-//TYPO3/NONSGML Calendarize//EN
BEGIN:VEVENT
UID:calendarize-marschwertung-9
DTSTAMP:20260424T191831
DTSTART:20260626T000000
DTEND:20260628T000000
SUMMARY:Bezirksmusikfest inkl. Marschwertung
DESCRIPTION:
X-ALT-DESC;FMTTYPE=text/html:
LOCATION:Inzersdorf im Kremstal
END:VEVENT
END:VCALENDAR
