BEGIN:VCALENDAR
VERSION:2.0
PRODID:-//TYPO3/NONSGML Calendarize//EN
BEGIN:VEVENT
UID:calendarize-landesbewerb-musik-in-kleinen-gruppen
DTSTAMP:20260424T192446
DTSTART;VALUE=DATE:20260509
DTEND;VALUE=DATE:20260510
SUMMARY:Landesbewerb "Musik in kleinen Gruppen"
DESCRIPTION:
X-ALT-DESC;FMTTYPE=text/html:
LOCATION:Landesmusikschule Ried im Innkreis
END:VEVENT
END:VCALENDAR
