BEGIN:VCALENDAR
VERSION:2.0
PRODID:-//TYPO3/NONSGML Calendarize//EN
BEGIN:VEVENT
UID:calendarize-land-und-wille-20260807
DTSTAMP:20260424T204523
DTSTART:20260807T203000
DTEND:20260807T223000
SUMMARY:Land und Wille
DESCRIPTION:
X-ALT-DESC;FMTTYPE=text/html:
LOCATION:
END:VEVENT
END:VCALENDAR
