BEGIN:VCALENDAR
VERSION:2.0
PRODID:-//TYPO3/NONSGML Calendarize//EN
BEGIN:VEVENT
UID:calendarize-konzertwertung-51
DTSTAMP:20260425T023003
DTSTART;VALUE=DATE:20280318
DTEND;VALUE=DATE:20280319
SUMMARY:Konzertwertung
DESCRIPTION:
X-ALT-DESC;FMTTYPE=text/html:
LOCATION:
END:VEVENT
END:VCALENDAR
