BEGIN:VCALENDAR
VERSION:2.0
PRODID:-//TYPO3/NONSGML Calendarize//EN
BEGIN:VEVENT
UID:calendarize-konzertwertung-50
DTSTAMP:20260425T010303
DTSTART;VALUE=DATE:20270410
DTEND;VALUE=DATE:20270411
SUMMARY:Konzertwertung
DESCRIPTION:
X-ALT-DESC;FMTTYPE=text/html:
LOCATION:
END:VEVENT
END:VCALENDAR
