BEGIN:VCALENDAR
VERSION:2.0
PRODID:-//TYPO3/NONSGML Calendarize//EN
BEGIN:VEVENT
UID:calendarize-konzertwertung-20261107
DTSTAMP:20260424T220426
DTSTART:20261107T120000
DTEND:20261107T200000
SUMMARY:Konzertwertung
DESCRIPTION:
X-ALT-DESC;FMTTYPE=text/html:
LOCATION:Hellmonsödt
END:VEVENT
END:VCALENDAR
