BEGIN:VCALENDAR
VERSION:2.0
PRODID:-//TYPO3/NONSGML Calendarize//EN
BEGIN:VEVENT
UID:calendarize-konzert-st-fegola-trifft-opus-musik-feldkirchendonau-20260
 208
DTSTAMP:20260424T162000
DTSTART:20260208T160000
DTEND:20260208T180000
SUMMARY:Konzert "St. FeGoLa trifft OPus" - musik feldkirchendonau
DESCRIPTION:
X-ALT-DESC;FMTTYPE=text/html:
LOCATION:Schul- und Kulturzentrum Feldkirchen (Schulstraße 12\, 4101 Feld
 kirchen) 
END:VEVENT
END:VCALENDAR
