BEGIN:VCALENDAR
VERSION:2.0
PRODID:-//TYPO3/NONSGML Calendarize//EN
BEGIN:VEVENT
UID:calendarize-konzert-im-pavillon-spielmannszug-2
DTSTAMP:20260424T204719
DTSTART:20260806T190000
DTEND:20260806T200000
SUMMARY:Konzert im Pavillon - Spielmannszug 
DESCRIPTION:
X-ALT-DESC;FMTTYPE=text/html:
LOCATION:Musikpavillon (https://www.in-linz-erklingts.at)
END:VEVENT
END:VCALENDAR
