BEGIN:VCALENDAR
VERSION:2.0
PRODID:-//TYPO3/NONSGML Calendarize//EN
BEGIN:VEVENT
UID:calendarize-konzert-im-pavillon-mk-der-kleinmuenchner-1
DTSTAMP:20260424T192049
DTSTART:20260618T190000
DTEND:20260618T200000
SUMMARY:Konzert im Pavillon - MK der Kleinmünchner
DESCRIPTION:
X-ALT-DESC;FMTTYPE=text/html:
LOCATION:Musikpavillon (https://www.in-linz-erklingts.at)
END:VEVENT
END:VCALENDAR
