BEGIN:VCALENDAR
VERSION:2.0
PRODID:-//TYPO3/NONSGML Calendarize//EN
BEGIN:VEVENT
UID:calendarize-konzert-im-pavillon-energie-ag-musik
DTSTAMP:20260424T194127
DTSTART:20260702T190000
DTEND:20260702T200000
SUMMARY:Konzert im Pavillon - Energie AG Musik
DESCRIPTION:
X-ALT-DESC;FMTTYPE=text/html:
LOCATION:Musikpavillon (https://www.in-linz-erklingts.at)
END:VEVENT
END:VCALENDAR
