BEGIN:VCALENDAR
VERSION:2.0
PRODID:-//TYPO3/NONSGML Calendarize//EN
BEGIN:VEVENT
UID:calendarize-konzert-im-pavillon-bundesbahnmusik-linz-5
DTSTAMP:20260424T204727
DTSTART:20260730T190000
DTEND:20260730T200000
SUMMARY:Konzert im Pavillon - Bundesbahnmusik Linz 
DESCRIPTION:
X-ALT-DESC;FMTTYPE=text/html:
LOCATION:Musikpavillon (https://www.in-linz-erklingts.at)
END:VEVENT
END:VCALENDAR
