BEGIN:VCALENDAR
VERSION:2.0
PRODID:-//TYPO3/NONSGML Calendarize//EN
BEGIN:VEVENT
UID:calendarize-konzert-der-polizeimusik-ooe
DTSTAMP:20260424T205808
DTSTART;VALUE=DATE:20261002
DTEND;VALUE=DATE:20261003
SUMMARY:Konzert der Polizeimusik OÖ
DESCRIPTION:Die Polizeimusik OÖ zu Besuch im Almtal
X-ALT-DESC;FMTTYPE=text/html:Die Polizeimusik OÖ zu Besuch im Almtal
LOCATION:
END:VEVENT
END:VCALENDAR
