BEGIN:VCALENDAR
VERSION:2.0
PRODID:-//TYPO3/NONSGML Calendarize//EN
BEGIN:VEVENT
UID:calendarize-konzert-der-musikkapelle-niederkappel-4
DTSTAMP:20260425T010752
DTSTART:20270313T200000
DTEND:20270313T220000
SUMMARY:Konzert der Musikkapelle Niederkappel
DESCRIPTION:
X-ALT-DESC;FMTTYPE=text/html:
LOCATION:Alfons-Dorfner Halle Lembach
END:VEVENT
END:VCALENDAR
