BEGIN:VCALENDAR
VERSION:2.0
PRODID:-//TYPO3/NONSGML Calendarize//EN
BEGIN:VEVENT
UID:calendarize-konzert-der-marktmusikkapelle-raab-2
DTSTAMP:20260425T010559
DTSTART:20270109T200000
DTEND:20270109T220000
SUMMARY:Konzert der Marktmusikkapelle Raab
DESCRIPTION:
X-ALT-DESC;FMTTYPE=text/html:
LOCATION:Mittelschule Raab\, Schulstraße 20 | 4760 Raab (https://msraab.a
 t/kontakt/)
END:VEVENT
END:VCALENDAR
