BEGIN:VCALENDAR
VERSION:2.0
PRODID:-//TYPO3/NONSGML Calendarize//EN
BEGIN:VEVENT
UID:calendarize-konzert-am-bauernhof-2026
DTSTAMP:20260424T193609
DTSTART:20260627T190000
DTEND:20260627T220000
SUMMARY:Konzert am Bauernhof 2026
DESCRIPTION:
X-ALT-DESC;FMTTYPE=text/html:
LOCATION:Hadlauerhof\, Bäckerstrasse 4\, Ennsdorf
END:VEVENT
END:VCALENDAR
