BEGIN:VCALENDAR
VERSION:2.0
PRODID:-//TYPO3/NONSGML Calendarize//EN
BEGIN:VEVENT
UID:calendarize-konzert-1
DTSTAMP:20260424T231657
DTSTART:20261121T193000
DTEND:20261121T223000
SUMMARY:Konzert
DESCRIPTION:
X-ALT-DESC;FMTTYPE=text/html:
LOCATION:Wendling bei Haag (Gasthaus Pichler zur Haltestelle)
END:VEVENT
END:VCALENDAR
