BEGIN:VCALENDAR
VERSION:2.0
PRODID:-//TYPO3/NONSGML Calendarize//EN
BEGIN:VEVENT
UID:calendarize-kirchenkonzert-mv-eidenberg-2
DTSTAMP:20260425T004329
DTSTART:20261129T160000
DTEND:20261129T180000
SUMMARY:Kirchenkonzert - MV Eidenberg
DESCRIPTION:
X-ALT-DESC;FMTTYPE=text/html:
LOCATION:Marienkirche Untergeng 
END:VEVENT
END:VCALENDAR
