BEGIN:VCALENDAR
VERSION:2.0
PRODID:-//TYPO3/NONSGML Calendarize//EN
BEGIN:VEVENT
UID:calendarize-kirchenkonzert-bkm-sierning
DTSTAMP:20260424T231840
DTSTART:20261115T160000
DTEND:20261115T171500
SUMMARY:Ensemblekonzert BKM Sierning
DESCRIPTION:
X-ALT-DESC;FMTTYPE=text/html:
LOCATION:Sierninghofen
END:VEVENT
END:VCALENDAR
