BEGIN:VCALENDAR
VERSION:2.0
PRODID:-//TYPO3/NONSGML Calendarize//EN
BEGIN:VEVENT
UID:calendarize-kirchenkonzert-3-2
DTSTAMP:20260424T231657
DTSTART:20261121T000000
DTEND:20261121T000000
SUMMARY:Kirchenkonzert
DESCRIPTION:
X-ALT-DESC;FMTTYPE=text/html:
LOCATION:Hofkirchen\, Pfarrkirche
END:VEVENT
END:VCALENDAR
