BEGIN:VCALENDAR
VERSION:2.0
PRODID:-//TYPO3/NONSGML Calendarize//EN
BEGIN:VEVENT
UID:calendarize-kinderkonzert
DTSTAMP:20260424T233949
DTSTART:20261128T160000
DTEND:20261128T170000
SUMMARY:Kinderkonzert
DESCRIPTION:
X-ALT-DESC;FMTTYPE=text/html:
LOCATION:VZ Buchkirchen
END:VEVENT
END:VCALENDAR
