BEGIN:VCALENDAR
VERSION:2.0
PRODID:-//TYPO3/NONSGML Calendarize//EN
BEGIN:VEVENT
UID:calendarize-kaiserklaengekonzert
DTSTAMP:20260424T231724
DTSTART:20261117T193000
DTEND:20261117T210000
SUMMARY:Kaiserklängekonzert
DESCRIPTION:
X-ALT-DESC;FMTTYPE=text/html:
LOCATION:Stadttheater Greif (Stadttheater Greif - Wels)
END:VEVENT
END:VCALENDAR
