BEGIN:VCALENDAR
VERSION:2.0
PRODID:-//TYPO3/NONSGML Calendarize//EN
BEGIN:VEVENT
UID:calendarize-jubilaeumskonzert-gemeinsam-im-takt-30-jahre-jugendblasorc
 hester-pichl-kematen
DTSTAMP:20260424T220722
DTSTART:20261010T190000
SUMMARY:Jubiläumskonzert "Gemeinsam im Takt - 30 Jahre Jugendblasorcheste
 r Pichl - Kematen"
DESCRIPTION:
X-ALT-DESC;FMTTYPE=text/html:
LOCATION:Turnsaal MS Pichl bei Wels
END:VEVENT
END:VCALENDAR
