BEGIN:VCALENDAR
VERSION:2.0
PRODID:-//TYPO3/NONSGML Calendarize//EN
BEGIN:VEVENT
UID:calendarize-jahreskonzert-musikverein-arnreit
DTSTAMP:20260425T010757
DTSTART:20270106T193000
DTEND:20270106T230000
SUMMARY:Jahreskonzert Musikverein Arnreit
DESCRIPTION:Traditionell am 6. Jänner jeden Jahres spielt der Musikverein
  Arnreit sein Konzert.
X-ALT-DESC;FMTTYPE=text/html:Traditionell am 6. Jänner jeden Jahres spiel
 t der Musikverein Arnreit sein Konzert.
LOCATION:Rohrbach (https://www.centro-rohrbach.at/de/)
END:VEVENT
END:VCALENDAR
