BEGIN:VCALENDAR
VERSION:2.0
PRODID:-//TYPO3/NONSGML Calendarize//EN
BEGIN:VEVENT
UID:calendarize-jahreskonzert-des-musikvereins-nussdorf-am-attersee
DTSTAMP:20260425T005152
DTSTART:20261207T200000
DTEND:20261207T220000
SUMMARY:Jahreskonzert des Musikvereins Nußdorf am Attersee
DESCRIPTION:
X-ALT-DESC;FMTTYPE=text/html:
LOCATION:Pfarrkirche Nußdorf am Attersee
END:VEVENT
END:VCALENDAR
