BEGIN:VCALENDAR
VERSION:2.0
PRODID:-//TYPO3/NONSGML Calendarize//EN
BEGIN:VEVENT
UID:calendarize-herbstkonzert-om-walding-20261121
DTSTAMP:20260424T232030
DTSTART:20261121T193000
DTEND:20261121T220000
SUMMARY:Herbstkonzert - OM Walding
DESCRIPTION:
X-ALT-DESC;FMTTYPE=text/html:
LOCATION:Turnhalle Volksschule Walding 
END:VEVENT
END:VCALENDAR
