BEGIN:VCALENDAR
VERSION:2.0
PRODID:-//TYPO3/NONSGML Calendarize//EN
BEGIN:VEVENT
UID:calendarize-herbstkonzert-mv-werkskapelle-lenzing
DTSTAMP:20260424T220427
DTSTART:20261107T200000
DTEND:20261107T220000
SUMMARY:Herbst.KONZERT MV Werkskapelle Lenzing 
DESCRIPTION:Am 07.11.2026 findet im Kulturzentrum Lenzing um 20:00 Uhr das
  Herbst.KONZERT des MV Werkskapelle Lenzing statt. Tickets sind bei allen 
 Musiker:innen\, online unter www.mv-werkskapelle-lenzing.at und direkt an 
 der Abendkassa erhältlich.   
X-ALT-DESC;FMTTYPE=text/html:Am 07.11.2026 findet im Kulturzentrum Lenzing
  um 20:00 Uhr das Herbst.KONZERT des MV Werkskapelle Lenzing statt.<br /> 
 Tickets sind bei allen Musiker:innen\, online unter www.mv-werkskapelle-le
 nzing.at und direkt an der Abendkassa erhältlich.&nbsp\;<br /> &nbsp\;
LOCATION:Kulturzentrum Lenzing
END:VEVENT
END:VCALENDAR
