BEGIN:VCALENDAR
VERSION:2.0
PRODID:-//TYPO3/NONSGML Calendarize//EN
BEGIN:VEVENT
UID:calendarize-herbstkonzert-mv-ried-im-traunkreis-1
DTSTAMP:20260424T232243
DTSTART:20261115T160000
SUMMARY:Herbstkonzert MV Ried im Traunkreis
DESCRIPTION:
X-ALT-DESC;FMTTYPE=text/html:
LOCATION:Turnsaal VS Ried/Trkr.
END:VEVENT
END:VCALENDAR
