BEGIN:VCALENDAR
VERSION:2.0
PRODID:-//TYPO3/NONSGML Calendarize//EN
BEGIN:VEVENT
UID:calendarize-herbstkonzert-mv-reichraming
DTSTAMP:20260424T220402
DTSTART:20261114T190000
DTEND:20261115T210000
SUMMARY:Herbstkonzert MV Reichraming
DESCRIPTION:
X-ALT-DESC;FMTTYPE=text/html:
LOCATION:Volksheim Reichraming (https://www.reichraming.at/)
END:VEVENT
END:VCALENDAR
