BEGIN:VCALENDAR
VERSION:2.0
PRODID:-//TYPO3/NONSGML Calendarize//EN
BEGIN:VEVENT
UID:calendarize-herbstkonzert-mv-putzleinsdorf-2
DTSTAMP:20260424T220427
DTSTART:20261107T200000
SUMMARY:Herbstkonzert MV Putzleinsdorf
DESCRIPTION:
X-ALT-DESC;FMTTYPE=text/html:
LOCATION:Alfons Dorfner Halle\, Lembach
END:VEVENT
END:VCALENDAR
