BEGIN:VCALENDAR
VERSION:2.0
PRODID:-//TYPO3/NONSGML Calendarize//EN
BEGIN:VEVENT
UID:calendarize-herbstkonzert-mv-puchenau-20261114
DTSTAMP:20260424T221724
DTSTART:20261114T193000
DTEND:20261114T220000
SUMMARY:Herbstkonzert - MV Puchenau
DESCRIPTION:
X-ALT-DESC;FMTTYPE=text/html:
LOCATION:Buchensaal Puchenau
END:VEVENT
END:VCALENDAR
