BEGIN:VCALENDAR
VERSION:2.0
PRODID:-//TYPO3/NONSGML Calendarize//EN
BEGIN:VEVENT
UID:calendarize-herbstkonzert-mv-alberndorf-id-riedmark-20261121
DTSTAMP:20260424T232304
DTSTART:20261121T200000
DTEND:20261121T223000
SUMMARY:Herbstkonzert - MV Alberndorf i.d. Riedmark
DESCRIPTION:
X-ALT-DESC;FMTTYPE=text/html:
LOCATION:Turnsaal der VS Alberndorf 
END:VEVENT
END:VCALENDAR
