BEGIN:VCALENDAR
VERSION:2.0
PRODID:-//TYPO3/NONSGML Calendarize//EN
BEGIN:VEVENT
UID:calendarize-herbstkonzert-musikverein-der-ooe-strassenverwaltung-1
DTSTAMP:20260424T220722
DTSTART:20261104T200000
DTEND:20261104T220000
SUMMARY:Herbstkonzert Musikverein der Oö. Straßenverwaltung
DESCRIPTION:
X-ALT-DESC;FMTTYPE=text/html:
LOCATION:Bauernmarkthalle Ried im Innkreis
END:VEVENT
END:VCALENDAR
