BEGIN:VCALENDAR
VERSION:2.0
PRODID:-//TYPO3/NONSGML Calendarize//EN
BEGIN:VEVENT
UID:calendarize-herbstkonzert-mmk-micheldorf
DTSTAMP:20260424T231927
DTSTART:20261121T200000
SUMMARY:Herbstkonzert MMK Micheldorf
DESCRIPTION:
X-ALT-DESC;FMTTYPE=text/html:
LOCATION:Freizeitpark Micheldorf
END:VEVENT
END:VCALENDAR
