BEGIN:VCALENDAR
VERSION:2.0
PRODID:-//TYPO3/NONSGML Calendarize//EN
BEGIN:VEVENT
UID:calendarize-herbstkonzert-e090b8a0d7f63a5fe1334232b9e297e9
DTSTAMP:20260424T234133
DTSTART:20261128T190000
DTEND:20261128T210000
SUMMARY:Herbstkonzert
DESCRIPTION:
X-ALT-DESC;FMTTYPE=text/html:
LOCATION:Lindemayrsaal
END:VEVENT
END:VCALENDAR
