BEGIN:VCALENDAR
VERSION:2.0
PRODID:-//TYPO3/NONSGML Calendarize//EN
BEGIN:VEVENT
UID:calendarize-herbstkonzert-des-musikvereins-ruestorf
DTSTAMP:20260424T222233
DTSTART:20261114T193000
DTEND:20261114T220000
SUMMARY:Herbstkonzert des Musikvereins Rüstorf
DESCRIPTION:
X-ALT-DESC;FMTTYPE=text/html:
LOCATION:VAZ Rüstorf
END:VEVENT
END:VCALENDAR
