BEGIN:VCALENDAR
VERSION:2.0
PRODID:-//TYPO3/NONSGML Calendarize//EN
BEGIN:VEVENT
UID:calendarize-herbstkonzert-des-musikverein-haslach
DTSTAMP:20260424T234719
DTSTART:20261128T143000
DTEND:20261128T223000
SUMMARY:Herbstkonzert des Musikverein Haslach
DESCRIPTION:Konzert findet im TuK Saal in Haslach statt und beginntum 14:3
 0 und um 20:00 Uhr.
X-ALT-DESC;FMTTYPE=text/html:Konzert findet im TuK Saal in Haslach statt u
 nd beginntum 14:30 und um 20:00 Uhr.
LOCATION:Haslach an der Mühl
END:VEVENT
END:VCALENDAR
