BEGIN:VCALENDAR
VERSION:2.0
PRODID:-//TYPO3/NONSGML Calendarize//EN
BEGIN:VEVENT
UID:calendarize-herbstkonzert-der-tmk-schneegattern-4
DTSTAMP:20260424T221958
DTSTART:20261114T200000
DTEND:20261114T223000
SUMMARY:Herbstkonzert der TMK Schneegattern
DESCRIPTION:
X-ALT-DESC;FMTTYPE=text/html:
LOCATION:Volksheim Schneegattern
END:VEVENT
END:VCALENDAR
