BEGIN:VCALENDAR
VERSION:2.0
PRODID:-//TYPO3/NONSGML Calendarize//EN
BEGIN:VEVENT
UID:calendarize-herbstkonzert-85cf802781a7ffda831d03088c88f818
DTSTAMP:20260425T004922
DTSTART:20261205T193000
DTEND:20261205T220000
SUMMARY:Herbstkonzert
DESCRIPTION:
X-ALT-DESC;FMTTYPE=text/html:
LOCATION:Konzertsaal der Volksschule
END:VEVENT
END:VCALENDAR
