BEGIN:VCALENDAR
VERSION:2.0
PRODID:-//TYPO3/NONSGML Calendarize//EN
BEGIN:VEVENT
UID:calendarize-herbstkonzert-75d3e8138c9cf309a5c1f42f5e170e04
DTSTAMP:20260424T232047
DTSTART:20261115T150000
DTEND:20261115T180000
SUMMARY:Herbstkonzert
DESCRIPTION:
X-ALT-DESC;FMTTYPE=text/html:
LOCATION:VZ Gunskirchen
END:VEVENT
END:VCALENDAR
