BEGIN:VCALENDAR
VERSION:2.0
PRODID:-//TYPO3/NONSGML Calendarize//EN
BEGIN:VEVENT
UID:calendarize-herbstkonzert-2026
DTSTAMP:20260424T234025
DTSTART:20261122T000000
DTEND:20261122T000000
SUMMARY:Herbstkonzert
DESCRIPTION:
X-ALT-DESC;FMTTYPE=text/html:
LOCATION:Schleißheim (https://maps.app.goo.gl/nRJovjMNSw4yPhka7)
END:VEVENT
END:VCALENDAR
