BEGIN:VCALENDAR
VERSION:2.0
PRODID:-//TYPO3/NONSGML Calendarize//EN
BEGIN:VEVENT
UID:calendarize-herbstkonzert-2026-1
DTSTAMP:20260424T221925
DTSTART:20261114T194500
DTEND:20261114T223000
SUMMARY:Herbstkonzert 2026
DESCRIPTION:Herbstkonzert der Marktmusik Neumarkt i.H.
X-ALT-DESC;FMTTYPE=text/html:Herbstkonzert der Marktmusik Neumarkt i.H.
LOCATION:4720 Kallham im s`Zentrum
END:VEVENT
END:VCALENDAR
